BEGIN:VCALENDAR
PRODID:-//eluceo/ical//2.0/EN
VERSION:2.0
CALSCALE:GREGORIAN
BEGIN:VEVENT
UID:813c85e16d46ad859bf6a1b289ec3591
DTSTAMP:20260422T235909Z
SUMMARY:A Temple Sinai Program: Shabbat B’Yachad (In-Person)
DESCRIPTION:UJA Federation of Greater Toronto\nJewish Toronto Calendar\nhtt
 ps://jewishtoronto.com/calendar/a-temple-sinai-program-shabbat-byachad-in-
 person-1679944150\n\nA Temple Sinai Program: Shabbat B’Yachad (In-Person
 ) Friday\, May 5 at 6.30 p.m.Please join us for Kabbalat Shabbat Service f
 ollowed by dinner and special guest speaker — musician\, author and form
 er Temple member\, Janet Horvath who will discuss her recently published b
 ook\, “The Cello Still Sings: A Generational Story of the Holocaust and 
 of the Transformative Power of Music”.Registration closes Monday\, May 1
  at 12.00 p.m.COST (PER PERSON): Temple members: $45 | Non-members: $55 Di
 nner ...
DTSTART;TZID=America/Toronto:20230505T183000
DTEND;TZID=America/Toronto:20230505T193000
END:VEVENT
END:VCALENDAR
