BEGIN:VCALENDAR
PRODID:-//eluceo/ical//2.0/EN
VERSION:2.0
CALSCALE:GREGORIAN
BEGIN:VEVENT
UID:51f0b6956cbd988fc69202bd26c67931
DTSTAMP:20260425T030055Z
SUMMARY:80th Anniversary of the Warsaw Ghetto Uprising commemoration
DESCRIPTION:UJA Federation of Greater Toronto\nJewish Toronto Calendar\nhtt
 ps://jewishtoronto.com/calendar/80th-anniversary-of-the-warsaw-ghetto-upri
 sing-commemoration-1681223527\n\nThe Toronto Workmen's Circle Foundation h
 osts the 80th Anniversary of the Warsaw Ghetto Uprising\, featuring a pres
 entation in English  by Dr. Michael Berenbaum\, Professor of Jewish Studie
 s at the American Jewish University. The program also includes readings an
 d songs in Yiddish and English.\n\nThis program will be online and open to
  the public\, premiering on YouTube. There is no registration. At 8:00 p.m
 . \, please go to: https://tinyurl.com/wcarto80/
DTSTART;TZID=America/Toronto:20230419T200000
DTEND;TZID=America/Toronto:20230419T211500
END:VEVENT
END:VCALENDAR
