BEGIN:VCALENDAR
PRODID:-//eluceo/ical//2.0/EN
VERSION:2.0
CALSCALE:GREGORIAN
BEGIN:VEVENT
UID:fb360946deed4b52edb4dc06eafcb3c6
DTSTAMP:20260421T114650Z
SUMMARY:75th Annual JNF Negev Dinner
DESCRIPTION:UJA Federation of Greater Toronto\nJewish Toronto Calendar\nhtt
 ps://jewishtoronto.com/calendar/75th-annual-jnf-negev-dinner\n\nJNF Toront
 o&#39\;s 75th Annual Negev Dinner.
DTSTART;TZID=America/Toronto:20231112T170000
DTEND;TZID=America/Toronto:20231112T210000
END:VEVENT
END:VCALENDAR
