BEGIN:VCALENDAR
PRODID:-//eluceo/ical//2.0/EN
VERSION:2.0
CALSCALE:GREGORIAN
BEGIN:VEVENT
UID:2a85b2d3705d6f7b24ab6ceb5fd8f906
DTSTAMP:20260422T150259Z
SUMMARY:6th Annual Baycrest Golf Classic
DESCRIPTION:UJA Federation of Greater Toronto\nJewish Toronto Calendar\nhtt
 ps://jewishtoronto.com/calendar/6th-annual-baycrest-golf-classic-166361501
 3\n\nBaycrest will be hosting our 6th annual Golf Classic at Maple Downs G
 olf and Century Club.
DTSTART;TZID=America/Toronto:20230619T074500
DTEND;TZID=America/Toronto:20230619T194500
END:VEVENT
END:VCALENDAR
