BEGIN:VCALENDAR
PRODID:-//eluceo/ical//2.0/EN
VERSION:2.0
CALSCALE:GREGORIAN
BEGIN:VEVENT
UID:7cbfcd83f2c109fbec0412c235bdf6ae
DTSTAMP:20260422T014516Z
SUMMARY:32nd Toronto Jewish Film Festival
DESCRIPTION:UJA Federation of Greater Toronto\nJewish Toronto Calendar\nhtt
 ps://jewishtoronto.com/calendar/32nd-toronto-jewish-film-festival-17047386
 72\n\nThe 32nd Toronto Jewish Film Festival will be offered at various loc
 ations throughout the GTA and online. Lineup available May 6.
DTSTART;TZID=America/Toronto:20240530T000000
DTEND;TZID=America/Toronto:20240609T235959
END:VEVENT
END:VCALENDAR
