BEGIN:VCALENDAR
PRODID:-//eluceo/ical//2.0/EN
VERSION:2.0
CALSCALE:GREGORIAN
BEGIN:VEVENT
UID:1f92273a46d2ddf8e164977f795d93cf
DTSTAMP:20260422T120921Z
SUMMARY:31st Toronto Jewish Film Festival
DESCRIPTION:UJA Federation of Greater Toronto\nJewish Toronto Calendar\nhtt
 ps://jewishtoronto.com/calendar/31st-toronto-jewish-film-festival-16571374
 51\n\nJoin us for the 31st edition of the Toronto Jewish Film Festival. Mo
 re info to follow at www.tjff.com
DTSTART;TZID=America/Toronto:20230601T193000
DTEND;TZID=America/Toronto:20230611T200000
END:VEVENT
END:VCALENDAR
