BEGIN:VCALENDAR
PRODID:-//eluceo/ical//2.0/EN
VERSION:2.0
CALSCALE:GREGORIAN
BEGIN:VEVENT
UID:60a37983f5c59f218f750a2b5f263006
DTSTAMP:20260424T185231Z
SUMMARY:29th Annual Mount Sinai Classic
DESCRIPTION:UJA Federation of Greater Toronto\nJewish Toronto Calendar\nhtt
 ps://jewishtoronto.com/calendar/29th-annual-mount-sinai-classic\n\nThe 29t
 h Annual Mount Sinai Classic\, presented by Equitable Bank and Peerage Cap
 ital Partners will take place on August 14\, 2023\, at Magna Golf Club. Th
 is renowned tournament has raised approximately $13 million for the Lunenf
 eld-Tanenbaum Research Institute since its inception.\n\n \n\n 
DTSTART;TZID=America/Toronto:20230814T000000
DTEND;TZID=America/Toronto:20230814T235959
END:VEVENT
END:VCALENDAR
