BEGIN:VCALENDAR
PRODID:-//eluceo/ical//2.0/EN
VERSION:2.0
CALSCALE:GREGORIAN
BEGIN:VEVENT
UID:c99e5e81dd7b7590c9450aca90d2a7f3
DTSTAMP:20260423T090619Z
SUMMARY:22nd Annual JNF Golf Classic
DESCRIPTION:UJA Federation of Greater Toronto\nJewish Toronto Calendar\nhtt
 ps://jewishtoronto.com/calendar/22nd-annual-jnf-golf-classic\n\nLocation t
 o be confirmed. 
DTSTART;TZID=America/Toronto:20230626T090000
DTEND;TZID=America/Toronto:20230626T200000
END:VEVENT
END:VCALENDAR
