BEGIN:VCALENDAR
PRODID:-//eluceo/ical//2.0/EN
VERSION:2.0
CALSCALE:GREGORIAN
BEGIN:VEVENT
UID:621d9d3f6cde121c4aa92c13390db7ea
DTSTAMP:20260420T210615Z
SUMMARY:22nd Annual ICRF Women of Action Luncheon
DESCRIPTION:UJA Federation of Greater Toronto\nJewish Toronto Calendar\nhtt
 ps://jewishtoronto.com/calendar/22nd-annual-icrf-women-of-action-luncheon-
 1694096070\n\n2024 marks our 22nd annual Women of Action Celebration! \n\
 nJoin us\, Sunday May 26 at the Fairmont Royal York to celebrate the incr
 edible accomplishments of our four esteemed honourees.\n\nOur 2024 Women o
 f Action honourees are:\n\nElly Barlin-Daniels\nThe Cherry Tabb & Herzig E
 ye Institute Women of Action Business Honouree \n\nCarole Gruson\nThe Ron
 da Green Women of Action Inspirational Honouree \n\nLori Rosenthal\nThe M
 yra York Women of Action Community Honouree \n\nDr. Toni Zhong\nThe...
DTSTART;TZID=America/Toronto:20240526T110000
DTEND;TZID=America/Toronto:20240526T140000
END:VEVENT
END:VCALENDAR
