BEGIN:VCALENDAR
PRODID:-//eluceo/ical//2.0/EN
VERSION:2.0
CALSCALE:GREGORIAN
BEGIN:VEVENT
UID:e2b972e05d7b9f176d456735628e898f
DTSTAMP:20260423T082912Z
SUMMARY:20s and 30s Pre-Passover Dinner
DESCRIPTION:UJA Federation of Greater Toronto\nJewish Toronto Calendar\nhtt
 ps://jewishtoronto.com/calendar/20s-and-30s-pre-passover-dinner-1678808560
 \n\nTake a break from the cleaning\, cooking and Passover prep to join oth
 er 20s and 30s  for a delicious\, catered dinner as and time to connect a
 nd celebrate as a community. \n\nCost for dinner:$18 per person. Limited s
 paces are available. Pre-registration is required by March 23 via https://
 bethtzedectoronto.shulcloud.com/form/20s-and-30s-pre-passover-dinner-2023.
 html.
DTSTART;TZID=America/Toronto:20230331T190000
DTEND;TZID=America/Toronto:20230331T210000
END:VEVENT
END:VCALENDAR
