BEGIN:VCALENDAR
PRODID:-//eluceo/ical//2.0/EN
VERSION:2.0
CALSCALE:GREGORIAN
BEGIN:VEVENT
UID:7e5c3a939c6966464c4796f4b8ed0915
DTSTAMP:20260421T164926Z
SUMMARY:20s and 30s Apple Picking
DESCRIPTION:UJA Federation of Greater Toronto\nJewish Toronto Calendar\nhtt
 ps://jewishtoronto.com/calendar/20s-and-30s-apple-picking-1693513578\n\n20
 s and 30s are invited to join us for light lunch and apple picking at Appl
 ewood Farm Winery (12416 McCowan Rd\, Whitchurch-Stouffville)! If you need
  transportation to the winery\, or can offer a lift to someone else—both
  from the Beth Tzedec parking lot—please indicate it in the registration
  form. $10 for admission and lunch. Pick your own apples: 2023 pricing per
  bag will be set by the orchard and paid directly to them. In case the eve
 nt is canceled due to weather\, you will be reimbursed...
DTSTART;TZID=America/Toronto:20230910T130000
DTEND;TZID=America/Toronto:20230910T170000
END:VEVENT
END:VCALENDAR
