BEGIN:VCALENDAR
PRODID:-//eluceo/ical//2.0/EN
VERSION:2.0
CALSCALE:GREGORIAN
BEGIN:VEVENT
UID:9c581c3f126a8a03e746bf9f52568723
DTSTAMP:20260420T222153Z
SUMMARY:2024 Coldest Night of the Year Walk with Ve'ahavta
DESCRIPTION:UJA Federation of Greater Toronto\nJewish Toronto Calendar\nhtt
 ps://jewishtoronto.com/calendar/2024-coldest-night-of-the-year-walk-with-v
 eahavta-1704466802\n\nThe Coldest Night of the Year is a winterrific famil
 y-friendly walk in support of local charities serving people experiencing 
 hurt\, hunger\, and homelessness. Join us on February 24\, 2024 - team up\
 , fundraise\, walk\, and take a moment to look closer... because it’s co
 ld out there.
DTSTART;TZID=America/Toronto:20240224T190000
DTEND;TZID=America/Toronto:20240224T210000
END:VEVENT
END:VCALENDAR
