BEGIN:VCALENDAR
PRODID:-//eluceo/ical//2.0/EN
VERSION:2.0
CALSCALE:GREGORIAN
BEGIN:VEVENT
UID:83c180f17ab13e3a1d24838f14b72b20
DTSTAMP:20260422T101920Z
SUMMARY:2023 Canadian Jewish Literary Awards
DESCRIPTION:UJA Federation of Greater Toronto\nJewish Toronto Calendar\nhtt
 ps://jewishtoronto.com/calendar/2023-canadian-jewish-literary-awards-16957
 53143\n\nWe are pleased to announce that the 2023 Canadian Jewish Literary
  Awards ceremony will take place on October 15\, 2023 at 2pm at the Tribut
 e Communities Recital Hall\, Accolade East Building\, York University.\n\n
 This year&#39\;s honorees are:\nBiography/Memoir: Moshe Safdie for If Wall
 s Could Speak: My Life in Architecture\nChildren and Youth: Heather Camlot
  for The Prisoner and the Writer\nFiction: Lori Weber for The Ribbon Leaf\
 nHistory (The Irving Abella Award): Doris Bergen for Between God and H...
DTSTART;TZID=America/Toronto:20231015T140000
DTEND;TZID=America/Toronto:20231015T160000
END:VEVENT
END:VCALENDAR
